Workbook

Sheet Leaching
G1: Site Eval # 2009
C2: Perry County Health Department Leaching Design Worksheet
C3: 121 West Brown Street, New Lexington, OH 43764 740-342-5179 www.perryhealth.com
B4: Location:
B5: Township/Village: | E5: Date
B6: Owner: | E6: Phone:
B7: Boxed areas must be filled in by designer. Other fields are calculated.
A8: 1. | B8: FLOW
B9: Number of Bedrooms | E9: 0
B10: HSTS Design Flow | E10: =E9*150 -> 0 | F10: gpd
B11: SFOSTS Flow | F11: gpd | G11: =MAX(E10,E11) -> 0
A13: 2. | B13: SEPTIC TANK LIQUID VOLUMES
B14: Septic tank capacity | E14: 500 gpd ATU (Aerator) 12" Depth Credit | F14: gallons (see figure 1)
B15: Number of tanks/compartments | E15: 2
B16: Effluent Filter (yes/no) | E16: yes
D17: Device Manufacturer
B19: 1. Septic Tank Capacity
B20: Number of | C20: Minimum
B21: Bedrooms | C21: Capacity
B22: 2 or less | C22: 1000
B23: 3 | C23: 1500
B24: 4 or 5 | C24: 2000
B25: SFOSTS | C25: 1000 min. (2X flow)
A27: 3. | B27: SOILS (Site evaluation data)
B28: Restricting layer | C28: Seasonal Water | D28: Depth to Limiting Layer | E28: 0 | F28: inches (enter 72 if none)
B29: Soil Type | C29: Cincinnatti | D29: Texture | E29: Silty Clay Loam - SICL
B30: Structure Shape | C30: Platy | D30: Structure Grade | E30: 2 Moderate
B31: Linear Loading rate | C31: 0 | D31: gpd/ ft2
B32: Soil (Infiltration) Loading Rate | C32: 0 | D32: gpd/ft2
B33: BOD/TSS | C33: <30mg/L | D33: % Land Slope | E33: 0
B34: Soil depth credit basis | C34: Fecal Coliform <200 | L34: Restriction | M34: Depth Required | N34: Slope | O34: Value | P34: Grade | Q34: SFLR | R34: Shape | S34: Credit | T34: Column1 | U34: Texture
B35: Soil depth credit (in.) | C35: 0 | D35: Soil Depth Required | E35: 0 | F35: inches | L35: None | Q35: 1 | S35: None | T35: 0
A36: 4. | B36: ABSORPTION AREA | L36: Seasonal Water | M36: 18 | P36: 0 Structureless | Q36: 0.82 | R36: Platy | S36: Fecal Coliform <10,000 | T36: 12 | U36: Coarse Sand - COS
B37: Trench Bottom Area | C37: Design Flow/Soil Loading Rate | E37: =G11/C32 -> #DIV/0! | F37: ft2 | L37: Fragipan | M37: 18 | N37: 3 | O37: Yes | P37: 1 Weak | R37: Blocky | S37: Fecal Coliform <1,000 | T37: 18 | U37: Sand - S
L38: Dense Till | M38: 18 | N38: 4 | O38: No | P38: 2 Moderate | R38: Subangular Blocky | S38: Fecal Coliform <200 | T38: 24 | U38: Fine Sand - FS
A39: 5. | B39: Width of Each Trench | C39: (12"-24") inches | D39: 24 | E39: inches | L39: Bedrock | M39: 36 | N39: 5 | P39: 3 Strong | R39: Prismatic | U39: Very Fine Sand - VFS
L40: Rock Fragments | M40: 36 | N40: 6 | R40: Granular | U40: Loamy Coarse Sand - LCOS
A41: 6. | B41: Trench Length (Min.) | C41: (Flow Rate/LLR) | D41: =G11/C31 -> #DIV/0! | E41: Ft. | R41: Massive | U41: Loamy Sand - LS
F42: =(E37/D41)/(D39/12) -> #DIV/0! | U42: Loamy Fine Sand - LFS
A43: 7. | B43: Total Linear Feet (Min) | C43: =E37/(D39/12) -> #DIV/0! | U43: Loamy Very Fine Sand - LVFS
E44: =C43/C45 -> #DIV/0! | L44: Pretreatment | N44: 12 | P44: Bearfield | R44: >30 mg/L | U44: Coarse Sandy Loam - COSL
A45: 8 | B45: Number of Trenches | C45: 3 | E45: Required Trench Length | F45: =MAX(E44,D41) -> #DIV/0! | G45: ft | L45: None | N45: 13 | P45: Clayton | R45: <30mg/L | U45: Sandy Loam - SL
L46: 500 gpd ATU (Aerator) 12" Depth Credit | N46: 14 | P46: Coal | U46: Fine Sandy Loam - FSL
A47: 9 | B47: Trench Depth (2"min - 24"max) | C47: 18 | D47: inches maximum | E47: Total Bottom Area | F47: =F45*C45*(D39/12) -> #DIV/0! | G47: ft2 | L47: 500 gpd ATU (Aerator) 24" Depth Credit UV | N47: 15 | P47: Harrison | U47: Very Fine Sandy Loam - VFSL
L48: 1000 gpd ATU | N48: 16 | P48: Hopewell | U48: Loam - L
A49: 10 | B49: Trench Fill 8" (Min) | C49: 2" under pipe, 4" around pipe, 2" over pipe | E49: 6" min. soil cover | L49: 1500 Dual Compartment Tank | N49: 17 | P49: Jackson | U49: Silt Loam - SIL
L50: 2000 Dual Comaprment Tank | N50: 18 | P50: Madison | U50: Silt - SI
L51: Pre-fabricated Filter | N51: 19 | P51: Monday Creek | U51: Sandy Clay Loam - CSL
D52: Leaching Trench Cross Section* | L52: Drip Distribution | N52: 2 | P52: Monroe | U52: Clay Loam - CL
P53: Pike | U53: Silty Clay Loam - SICL
C54: =D39 -> 24 | D54: " width | L54: 5 | P54: Pleasant | U54: Sandy Clay - SC
L55: 3 | P55: Reading | U55: Silty Clay - SIC
B56: Original grade | L56: 4 | P56: Saltlick | U56: Clay - C
L57: 6 | P57: Thorn
D58: =C47 -> 18 | E58: " max. trench depth | L58: 8
L59: 10
B61: Restrictive layer | C61: =E28 -> 0
C63: *Diagrams not to scale, for illustration purposes only.
D74: Leaching Detail*
C80: =F45 -> #DIV/0!
F82: =E14 -> 500 gpd ATU (Aerator) 12" Depth Credit
E86: =C45 -> 3 | F86: # of trenches actually in total leaching system
B89: =D39 -> 24
D96: Gradient drain (optional)
B100: *This drawing is for illustration purposes only. Actual leaching layout will vary with site conditions including slopes.
B106: Notes:
B107: Layout drawing required prior to issuing permit
B112: Prepared By: | C112: Chad J. Cook R.S. | F112: Date | G112: 38423
B114: Designed by R. Joseph Ebel RS, MS, MBA, Health Commissioner, Licking County Combned Health Dristrict, Newark, Ohio

Sheet tables
G2: SLOPE | I2: 0 to 4% | L2: 5 to 9% | O2: >10%
G3: DEPTH TO LL | H3: >6 | I3: >12 | J3: >24 | K3: 6 | L3: 12 | M3: 24 | N3: 6 | O3: 12 | P3: 24
A4: Texture | B4: A | D4: Shape | E4: Grade | F4: >30 | G4: <30
A5: Coarse Sand - COS | B5: 1 | C5: 1 | D5: 0 | E5: 0SG | F5: 0.8 | G5: 1.6 | H5: 4 | I5: 5 | J5: 6 | K5: 5 | L5: 6 | M5: 7 | N5: 6 | O5: 7 | P5: 8 | Q5: 1
A6: Clay - C | B6: 8 | C6: 1.1 | D6: 0 | E6: 0SG | F6: 0.4 | G6: 1 | H6: 3.5 | I6: 4.5 | J6: 5.5 | Q6: 2
A7: Clay Loam - CL | B7: 7 | C7: 1.2 | D7: 0 | E7: 0M | F7: 0.2 | G7: 0.6 | H7: 3 | I7: 3.5 | J7: 4 | K7: 3.6 | L7: 4.1 | M7: 4.6 | N7: 5 | O7: 6 | P7: 7 | Q7: 3
A8: Coarse Sandy Loam - COSL | B8: 3 | C8: 2 | D8: PL | E8: 1 | F8: 0.2 | G8: 0.5 | H8: 3 | I8: 3.5 | J8: 4 | K8: 3.6 | L8: 4.1 | M8: 4.6 | N8: 4 | O8: 5 | P8: 6 | Q8: 4
A9: Fine Sand - FS | B9: 2 | C9: 2.1 | D9: PL | E9: 2,3 | F9: 0 | G9: 0 | H9: 0 | I9: 0 | J9: 0 | K9: 0 | L9: 0 | M9: 0 | N9: 0 | O9: 0 | P9: 0 | Q9: 5
A10: Fine Sandy Loam - FSL | B10: 4 | C10: 3.1 | D10: PR,BK,GR | E10: 1 | F10: 0.4 | G10: 0.7 | H10: 3.5 | I10: 4.5 | J10: 5.5 | K10: 4 | L10: 5 | M10: 6 | N10: 5 | O10: 6 | P10: 7 | Q10: 6
A11: Loam - L | B11: 5 | C11: 3.21 | D11: PR,BK,GR | E11: 2,3 | F11: 0.6 | G11: 1 | H11: 3.5 | I11: 4.5 | J11: 5.5 | K11: 4 | L11: 5 | M11: 6 | N11: 5 | O11: 6 | P11: 7 | Q11: 7
A12: Loamy Coarse Sand - LCOS | B12: 1 | C12: 3.22 | D12: 0 | E12: 0M | F12: 0.2 | G12: 0.5 | H12: 2 | I12: 2.3 | J12: 2.6 | K12: 2.4 | L12: 2.7 | M12: 3 | N12: 2.7 | O12: 3.2 | P12: 3.7 | Q12: 8
A13: Loamy Fine Sand - LFS | B13: 2 | C13: 4.1 | D13: PL | E13: 1,2,3 | F13: 0 | G13: 0 | H13: 0 | I13: 0 | J13: 0 | K13: 0 | L13: 0 | M13: 0 | N13: 0 | O13: 0 | P13: 0 | Q13: 9
A14: Loamy Sand - LS | B14: 1 | C14: 4.21 | D14: PR,BK,GR | E14: 1 | F14: 0.2 | G14: 0.6 | H14: 3 | I14: 3.5 | J14: 4 | K14: 3.3 | L14: 3.8 | M14: 4.3 | N14: 3.6 | O14: 4.1 | P14: 4.6 | Q14: 10
A15: Loamy Very Fine Sand - LVFS | B15: 2 | C15: 4.22 | D15: PR,BK,GR | E15: 2,3 | F15: 0.4 | G15: 0.8 | H15: 3.3 | I15: 3.8 | J15: 4.3 | K15: 3.6 | L15: 4.1 | M15: 4.6 | N15: 3.9 | O15: 4.4 | P15: 4.9 | Q15: 11
A16: Sand - S | B16: 1 | C16: 5 | D16: 0 | E16: 0M | F16: 0.2 | G16: 0.5 | H16: 2 | I16: 2.3 | J16: 2.6 | K16: 2.4 | L16: 2.7 | M16: 3 | N16: 2.7 | O16: 3.2 | P16: 3.7 | Q16: 12
A17: Sandy Clay - SC | B17: 8 | C17: 5.1 | D17: PL | E17: 1,2,3 | F17: 0 | G17: 0 | H17: 0 | I17: 0 | J17: 0 | K17: 0 | L17: 0 | M17: 0 | N17: 0 | O17: 0 | P17: 0 | Q17: 13
A18: Sandy Clay Loam - CSL | B18: 7 | C18: 5.21 | D18: PR,BK,GR | E18: 1 | F18: 0.4 | G18: 0.6 | H18: 3 | I18: 3.5 | J18: 4 | K18: 3.3 | L18: 3.8 | M18: 4.3 | N18: 3.6 | O18: 4.1 | P18: 4.6 | Q18: 14
A19: Sandy Loam - SL | B19: 3 | C19: 5.22 | D19: PR,BK,GR | E19: 2,3 | F19: 0.6 | G19: 0.8 | H19: 3.3 | I19: 3.8 | J19: 4.3 | K19: 3.6 | L19: 4.1 | M19: 4.6 | N19: 3.9 | O19: 4.4 | P19: 4.9 | Q19: 15
A20: Silt - SI | B20: 6 | C20: 6 | D20: 0 | E20: 0M | F20: 0 | G20: 0.2 | H20: 2 | I20: 2.5 | J20: 3 | K20: 2.2 | L20: 2.7 | M20: 3.2 | N20: 2.4 | O20: 2.9 | P20: 3.4 | Q20: 16
A21: Silt Loam - SIL | B21: 6 | C21: 6.1 | D21: PL | E21: 1,2,3 | F21: 0 | G21: 0 | H21: 0 | I21: 0 | J21: 0 | K21: 0 | L21: 0 | M21: 0 | N21: 0 | O21: 0 | P21: 0 | Q21: 17
A22: Silty Clay - SIC | B22: 8 | C22: 6.21 | D22: PR,BK,GR | E22: 1 | F22: 0.4 | G22: 0.6 | H22: 2.4 | I22: 2.7 | J22: 3 | K22: 2.7 | L22: 3 | M22: 3.3 | N22: 3 | O22: 3.5 | P22: 4 | Q22: 18
A23: Silty Clay Loam - SICL | B23: 7 | C23: 6.22 | D23: PR,BK,GR | E23: 2,3 | F23: 0.6 | G23: 0.8 | H23: 2.7 | I23: 3 | J23: 3.3 | K23: 3 | L23: 3.5 | M23: 4 | N23: 3.3 | O23: 3.8 | P23: 4.3 | Q23: 19
A24: Very Fine Sand - VFS | B24: 2 | C24: 7 | D24: 0 | E24: 0M | F24: 0 | G24: 0 | H24: 0 | I24: 0 | J24: 0 | K24: 0 | L24: 0 | M24: 0 | N24: 0 | O24: 0 | P24: 0 | Q24: 20
A25: Very Fine Sandy Loam - VFSL | B25: 4 | C25: 7.1 | D25: PL | E25: 1,2,3 | F25: 0 | G25: 0 | H25: 0 | I25: 0 | J25: 0 | K25: 0 | L25: 0 | M25: 0 | N25: 0 | O25: 0 | P25: 0 | Q25: 21
C26: 7.21 | D26: PR,BK,GR | E26: 1 | F26: 0.2 | G26: 0.3 | H26: 2 | I26: 2.5 | J26: 3 | K26: 2.2 | L26: 2.7 | M26: 3.2 | N26: 2.4 | O26: 2.9 | P26: 3.4 | Q26: 22
C27: 7.22 | D27: PR,BK,GR | E27: 2,3 | F27: 0.4 | G27: 0.6 | H27: 2.4 | I27: 2.9 | J27: 3.4 | K27: 2.7 | L27: 3 | M27: 3.3 | N27: 3 | O27: 3.5 | P27: 4 | Q27: 23
B28: 0 | C28: 8 | D28: 0 | E28: 0M | F28: 0 | G28: 0 | H28: 0 | I28: 0 | J28: 0 | K28: 0 | L28: 0 | M28: 0 | N28: 0 | O28: 0 | P28: 0 | Q28: 24
A29: Blocky | B29: 0.2 | C29: 8.1 | D29: PL | E29: 1,2,3 | F29: 0 | G29: 0 | H29: 0 | I29: 0 | J29: 0 | K29: 0 | L29: 0 | M29: 0 | N29: 0 | O29: 0 | P29: 0 | Q29: 25
A30: Granular | B30: 0.2 | C30: 8.21 | D30: PR,BK,GR | E30: 1 | F30: 0 | G30: 0 | H30: 0 | I30: 0 | J30: 0 | K30: 0 | L30: 0 | M30: 0 | N30: 0 | O30: 0 | P30: 0 | Q30: 26
A31: Massive | B31: 0 | C31: 8.22 | D31: PR,BK,GR | E31: 2,3 | F31: 0.2 | G31: 0.3 | H31: 2 | I31: 2.5 | J31: 3 | K31: 2.2 | L31: 2.7 | M31: 3.2 | N31: 2.4 | O31: 2.9 | P31: 3.4 | Q31: 27
A32: Platy | B32: 0.1
A33: Prismatic | B33: 0.2
A34: Subangular Blocky | B34: 0.2 | K34: =IF(H35 >10%,3,0) -> 0
D35: =VLOOKUP(Leaching!E29,A5:B26,2) -> 7 | E35: TEXTURE VALUE | H35: =Leaching!E33 -> 0 | I35: slope | K35: =IF(H35 >5%,3,0) -> 0
D36: =VLOOKUP(Leaching!C30,A28:B34,2) -> 0.1 | E36: SHAPE | H36: =Leaching!E28 -> 0 | I36: depth to LL | K36: =IF(H36 >12,1,0) -> 0
D37: =VLOOKUP(Leaching!E30,A37:B41,2) -> 0.02 | E37: GRADE | H37: =VLOOKUP(D39,C5:P31,6+K38) -> 0 | I37: LLR | K37: =IF(H36 >24,1,0) -> 0
A38: 0 Structureless | B38: 0 | K38: =SUM(K34:K37) -> 0
A39: 1 Weak | B39: 0.01 | D39: =SUM(D35:D38) -> 7.12 | E39: ROW
A40: 2 Moderate | B40: 0.02
A41: 3 Strong | B41: 0.02 | D41: =VLOOKUP(D39,C5:P31,4,FALSE) -> #N/A | E41: SLR >30 BOD
D42: =VLOOKUP(D39,C5:P31,5,FALSE) -> #N/A | E42: SLR <30 BOD
